BEGIN:VCALENDAR
VERSION:2.0
PRODID:-//https://calenda-formation.labocleo.org
X-WR-CALNAME:Calenda
X-WR-TIMEZONE:Europe/Paris
CALSCALE:GREGORIAN
X-WR-CALDESC:The calendar for arts, humanities and social sciences
METHOD:PUBLISH
BEGIN:VEVENT
DTSTART;VALUE=DATE:20190523
DTEND;VALUE=DATE:20190524
UID:623917-20190523@calenda.revues.org
SUMMARY:The words of illness
URL:https://calenda-formation.labocleo.org/623917
DESCRIPTION:L’expérience de la maladie\, au carrefour de l’expérience des patients\, des proches mais également de l’expérience des soignants renvoie souvent au vécu d’une rupture. Du vécu d’une cassure dans la continuité d’une vie à la difficulté de donner un sen… @plus_info https://calenda-formation.labocleo.org/623917
LOCATION:Lille
END:VEVENT
END:VCALENDAR
