BEGIN:VCALENDAR
VERSION:2.0
PRODID:-//https://calenda-formation.labocleo.org
X-WR-CALNAME:Calenda
X-WR-TIMEZONE:Europe/Paris
CALSCALE:GREGORIAN
X-WR-CALDESC:Le calendrier des lettres et sciences humaines et sociales
METHOD:PUBLISH
BEGIN:VEVENT
DTSTART;VALUE=DATE:20190520
DTEND;VALUE=DATE:20190521
UID:625087-20190520@calenda.revues.org
SUMMARY:Penser le patrimoine culturel en trois dimensions
URL:https://calenda-formation.labocleo.org/625087
DESCRIPTION:Les communications et la table ronde\, qui composent cette journée\, aborderont l’utilisation de la 3D et des technologies récentes de visualisation sous l’angle de leur adéquation aux problématiques de recherche et de leur utilisation dans les médiati… @plus_info https://calenda-formation.labocleo.org/625087
LOCATION:Nanterre
END:VEVENT
END:VCALENDAR
