BEGIN:VCALENDAR
VERSION:2.0
PRODID:-//https://calenda-formation.labocleo.org
X-WR-CALNAME:Calenda
X-WR-TIMEZONE:Europe/Paris
CALSCALE:GREGORIAN
X-WR-CALDESC:The calendar for arts, humanities and social sciences
METHOD:PUBLISH
BEGIN:VEVENT
DTSTART;VALUE=DATE:20190615
DTEND;VALUE=DATE:20190616
UID:625424-20190615@calenda.revues.org
SUMMARY:Adaptations of the Americano-Caribbean literary text: forms and stakes
URL:https://calenda-formation.labocleo.org/625424
DESCRIPTION:Ce colloque a pour but d'interroger les enjeux et les différentes formes d'adaptations littéraires dans l'espace américano-caribéen. Il s'agit d'apporter des réflexions sur les façons d'adapter et d'interpréter l'oeuvre originale mais aussi sur les s… @plus_info https://calenda-formation.labocleo.org/625424
LOCATION:Schœlcher
END:VEVENT
END:VCALENDAR
