BEGIN:VCALENDAR
VERSION:2.0
PRODID:-//https://calenda-formation.labocleo.org
X-WR-CALNAME:Calenda
X-WR-TIMEZONE:Europe/Paris
CALSCALE:GREGORIAN
X-WR-CALDESC:Le calendrier des lettres et sciences humaines et sociales
METHOD:PUBLISH
BEGIN:VEVENT
DTSTART;VALUE=DATE:20190630
DTEND;VALUE=DATE:20190701
UID:625810-20190630@calenda.revues.org
SUMMARY:1989’s contested legacies
URL:https://calenda-formation.labocleo.org/625810
DESCRIPTION:This conference aims at rethinking the legacy of 1989 in Central and Eastern Europe (CEE) through the prism of its ongoing contestations\, with a focus on the current trends and deliberate political efforts that challenge the major achievements of Vel… @plus_info https://calenda-formation.labocleo.org/625810
LOCATION:Varsovie
END:VEVENT
END:VCALENDAR
