BEGIN:VCALENDAR
VERSION:2.0
PRODID:-//https://calenda-formation.labocleo.org
X-WR-CALNAME:Calenda
X-WR-TIMEZONE:Europe/Paris
CALSCALE:GREGORIAN
X-WR-CALDESC:The calendar for arts, humanities and social sciences
METHOD:PUBLISH
BEGIN:VEVENT
DTSTART;VALUE=DATE:20190630
DTEND;VALUE=DATE:20190701
UID:625850-20190630@calenda.revues.org
SUMMARY:Urbi and orbi. Reading cities\, living literature
URL:https://calenda-formation.labocleo.org/625850
DESCRIPTION:Notre rencontre a pour objet la réflexion sur les villes européennes et autres\, ces loci memoriae que tant d‘écrivains ont bâtis dans leurs livres (où nous nous promenons avec plaisir ou inquiétude\, dans les pas de Baudelaire\, de  Joyce\, de Modiano\, … @plus_info https://calenda-formation.labocleo.org/625850
LOCATION:Aveiro
END:VEVENT
END:VCALENDAR
