BEGIN:VCALENDAR
VERSION:2.0
PRODID:-//https://calenda-formation.labocleo.org
X-WR-CALNAME:Calenda
X-WR-TIMEZONE:Europe/Paris
CALSCALE:GREGORIAN
X-WR-CALDESC:The calendar for arts, humanities and social sciences
METHOD:PUBLISH
BEGIN:VEVENT
DTSTART;VALUE=DATE:20190524
DTEND;VALUE=DATE:20190525
UID:625973-20190524@calenda.revues.org
SUMMARY:Big Data and Machine Learning
URL:https://calenda-formation.labocleo.org/625973
DESCRIPTION:La journée d’étude s’organise autour du thème « Big data et apprentissage machine : enjeux sociologiques\, enjeux politiques »\, et privilégie deux axes thématiques de réflexion au centre des questions que posent ces nouvelles méthodes. La matinée - co… @plus_info https://calenda-formation.labocleo.org/625973
LOCATION:
END:VEVENT
END:VCALENDAR
