BEGIN:VCALENDAR
VERSION:2.0
PRODID:-//https://calenda-formation.labocleo.org
X-WR-CALNAME:Calenda
X-WR-TIMEZONE:Europe/Paris
CALSCALE:GREGORIAN
X-WR-CALDESC:The calendar for arts, humanities and social sciences
METHOD:PUBLISH
BEGIN:VEVENT
DTSTART;VALUE=DATE:20190630
DTEND;VALUE=DATE:20190701
UID:626722-20190630@calenda.revues.org
SUMMARY:The printing and distribution of the law in the Habsburg Netherlands\, the united provicnes and the principality of Liège in the modern age (16th-18th century)
URL:https://calenda-formation.labocleo.org/626722
DESCRIPTION:Ce colloque international entend ainsi questionner la problématique de l’impression et de la diffusion des lois à l’époque moderne en comparant le cas des Pays-Bas habsbourgeois\, des Provinces-Unies et de la principauté ecclésiastique de Liège. Les t… @plus_info https://calenda-formation.labocleo.org/626722
LOCATION:Liège
END:VEVENT
END:VCALENDAR
