BEGIN:VCALENDAR
VERSION:2.0
PRODID:-//https://calenda-formation.labocleo.org
X-WR-CALNAME:Calenda
X-WR-TIMEZONE:Europe/Paris
CALSCALE:GREGORIAN
X-WR-CALDESC:Le calendrier des lettres et sciences humaines et sociales
METHOD:PUBLISH
BEGIN:VEVENT
DTSTART;VALUE=DATE:20190621
DTEND;VALUE=DATE:20190622
UID:627859-20190621@calenda.revues.org
SUMMARY:Un monde pour tous ! Le rôle de la sensorialité dans la conception universelle
URL:https://calenda-formation.labocleo.org/627859
DESCRIPTION:Le Sensolier\, association française dans le domaine d'analyse sensorielle\, propose une journée pour traiter du rôle de la sensorialité dans la conception universelle. D’après l’article 2 de la convention de l’ONU\, on entend par « conception universel… @plus_info https://calenda-formation.labocleo.org/627859
LOCATION:Paris
END:VEVENT
END:VCALENDAR
