BEGIN:VCALENDAR
VERSION:2.0
PRODID:-//https://calenda-formation.labocleo.org
X-WR-CALNAME:Calenda
X-WR-TIMEZONE:Europe/Paris
CALSCALE:GREGORIAN
X-WR-CALDESC:Le calendrier des lettres et sciences humaines et sociales
METHOD:PUBLISH
BEGIN:VEVENT
DTSTART;VALUE=DATE:20190524
DTEND;VALUE=DATE:20190525
UID:628159-20190524@calenda.revues.org
SUMMARY:Persistance de l'éphémère : regards sur les objets littéraires évanescents
URL:https://calenda-formation.labocleo.org/628159
DESCRIPTION:Par le biais d’une réflexion sur ses marges\, cette journée sera l’occasion de réfléchir à la valeur du canon littéraire\, dans la mesure où celles-ci ne s’inscrivent pas nécessairement dans les axiologies par lesquelles on valorise la grande littératu… Weitere Informationen https://calenda-formation.labocleo.org/628159
LOCATION:Paris
END:VEVENT
END:VCALENDAR
