BEGIN:VCALENDAR
VERSION:2.0
PRODID:-//https://calenda-formation.labocleo.org
X-WR-CALNAME:Calenda
X-WR-TIMEZONE:Europe/Paris
CALSCALE:GREGORIAN
X-WR-CALDESC:O calendário de letras e de ciências sociais e humanas
METHOD:PUBLISH
BEGIN:VEVENT
DTSTART;VALUE=DATE:20190605
DTEND;VALUE=DATE:20190606
UID:628196-20190605@calenda.revues.org
SUMMARY:Les dossiers de l'écran
URL:https://calenda-formation.labocleo.org/628196
DESCRIPTION:Les usages éducatifs du numérique reposent sur une multitude d’artefacts technologiques. Parmi eux\, les outils dotés d’un écran (ordinateurs\, tablettes et smartphones) occupent une place centrale\, mais ambivalente. De nombreux prescripteurs\, qu’ils s… @plus_info https://calenda-formation.labocleo.org/628196
LOCATION:Paris
END:VEVENT
END:VCALENDAR
