BEGIN:VCALENDAR
VERSION:2.0
PRODID:-//https://calenda-formation.labocleo.org
X-WR-CALNAME:Calenda
X-WR-TIMEZONE:Europe/Paris
CALSCALE:GREGORIAN
X-WR-CALDESC:Le calendrier des lettres et sciences humaines et sociales
METHOD:PUBLISH
BEGIN:VEVENT
DTSTART;VALUE=DATE:20191115
DTEND;VALUE=DATE:20191116
UID:631383-20191115@calenda.revues.org
SUMMARY:La nature sous contrat. Concessions\, histoire et environnement
URL:https://calenda-formation.labocleo.org/631383
DESCRIPTION:Les formes de possessions collectives ou individuelles et les relations qu’elles nouent avec leur environnement ont fortement mobilisé les approches historiques récentes. Puisque l’utilisation des ressources naturelles et la transformation des milieu… Weitere Informationen https://calenda-formation.labocleo.org/631383
LOCATION:Paris
END:VEVENT
END:VCALENDAR
