BEGIN:VCALENDAR
VERSION:2.0
PRODID:-//https://calenda-formation.labocleo.org
X-WR-CALNAME:Calenda
X-WR-TIMEZONE:Europe/Paris
CALSCALE:GREGORIAN
X-WR-CALDESC:Le calendrier des lettres et sciences humaines et sociales
METHOD:PUBLISH
BEGIN:VEVENT
DTSTART;VALUE=DATE:20190531
DTEND;VALUE=DATE:20190601
UID:631413-20190531@calenda.revues.org
SUMMARY:Politiques migratoires. Une approche historique
URL:https://calenda-formation.labocleo.org/631413
DESCRIPTION:Ce colloque est consacrer à l’analyse des politiques migratoires selon une perspective historique – un sujet largement relayé par les médias – afin de mieux comprendre la situation dans laquelle se trouve la société actuelle. Nous sommes quotidiennem… @plus_info https://calenda-formation.labocleo.org/631413
LOCATION:Paris
END:VEVENT
END:VCALENDAR
