BEGIN:VCALENDAR
VERSION:2.0
PRODID:-//https://calenda-formation.labocleo.org
X-WR-CALNAME:Calenda
X-WR-TIMEZONE:Europe/Paris
CALSCALE:GREGORIAN
X-WR-CALDESC:Le calendrier des lettres et sciences humaines et sociales
METHOD:PUBLISH
BEGIN:VEVENT
DTSTART;VALUE=DATE:20200630
DTEND;VALUE=DATE:20200701
UID:632573-20200630@calenda.revues.org
SUMMARY:Tatouage éthique et inclusif
URL:https://calenda-formation.labocleo.org/632573
DESCRIPTION:Beaucoup de tatoueuses et de tatoueurs féministes trans/queer militent dans leurs pratiques pour un tatouage safe (bienveillant\, sécure)\, éthique et inclusif. Le tatouage ne se réduit pas à une pratique unidimensionnelle mais revendique son caractère… Weitere Informationen https://calenda-formation.labocleo.org/632573
LOCATION:
END:VEVENT
END:VCALENDAR
