BEGIN:VCALENDAR
VERSION:2.0
PRODID:-//https://calenda-formation.labocleo.org
X-WR-CALNAME:Calenda
X-WR-TIMEZONE:Europe/Paris
CALSCALE:GREGORIAN
X-WR-CALDESC:Le calendrier des lettres et sciences humaines et sociales
METHOD:PUBLISH
BEGIN:VEVENT
DTSTART;VALUE=DATE:20191121
DTEND;VALUE=DATE:20191122
UID:635004-20191121@calenda.revues.org
SUMMARY:« Précieux souvenirs ». Histoire de l'imagerie de dévotion en Europe
URL:https://calenda-formation.labocleo.org/635004
DESCRIPTION:Le Saulchoir s’est établi progressivement comme point de passage obligé pour l’étude des différents objets de dévotion. La collection des images de dévotion compte plus de 200 000 pièces classées. L’organisation de la source en corpus invite à creuse… @plus_info https://calenda-formation.labocleo.org/635004
LOCATION:Paris
END:VEVENT
BEGIN:VEVENT
DTSTART;VALUE=DATE:20191122
DTEND;VALUE=DATE:20191123
UID:635004-20191122@calenda.revues.org
SUMMARY:« Précieux souvenirs ». Histoire de l'imagerie de dévotion en Europe
URL:https://calenda-formation.labocleo.org/635004
DESCRIPTION:Le Saulchoir s’est établi progressivement comme point de passage obligé pour l’étude des différents objets de dévotion. La collection des images de dévotion compte plus de 200 000 pièces classées. L’organisation de la source en corpus invite à creuse… @plus_info https://calenda-formation.labocleo.org/635004
LOCATION:Paris
END:VEVENT
END:VCALENDAR
