BEGIN:VCALENDAR
VERSION:2.0
PRODID:-//https://calenda-formation.labocleo.org
X-WR-CALNAME:Calenda
X-WR-TIMEZONE:Europe/Paris
CALSCALE:GREGORIAN
X-WR-CALDESC:Le calendrier des lettres et sciences humaines et sociales
METHOD:PUBLISH
BEGIN:VEVENT
DTSTART;VALUE=DATE:20190925
DTEND;VALUE=DATE:20190926
UID:639110-20190925@calenda.revues.org
SUMMARY:Innovation et santé\, approche historique : l’exemple de la vaccination au travers de l’histoire du droit et de l’histoire de la médecine
URL:https://calenda-formation.labocleo.org/639110
DESCRIPTION:Cet atelier a pour objectif de tracer les contours d’une réflexion associant historiens et juristes\, médecins et politiques sur le thème de l’histoire du droit et de l’histoire de la médecine dans le cas de la vaccination. L’histoire de la médecine m… Weitere Informationen https://calenda-formation.labocleo.org/639110
LOCATION:Toulouse
END:VEVENT
BEGIN:VEVENT
DTSTART;VALUE=DATE:20190926
DTEND;VALUE=DATE:20190927
UID:639110-20190926@calenda.revues.org
SUMMARY:Innovation et santé\, approche historique : l’exemple de la vaccination au travers de l’histoire du droit et de l’histoire de la médecine
URL:https://calenda-formation.labocleo.org/639110
DESCRIPTION:Cet atelier a pour objectif de tracer les contours d’une réflexion associant historiens et juristes\, médecins et politiques sur le thème de l’histoire du droit et de l’histoire de la médecine dans le cas de la vaccination. L’histoire de la médecine m… Weitere Informationen https://calenda-formation.labocleo.org/639110
LOCATION:Toulouse
END:VEVENT
BEGIN:VEVENT
DTSTART;VALUE=DATE:20190927
DTEND;VALUE=DATE:20190928
UID:639110-20190927@calenda.revues.org
SUMMARY:Innovation et santé\, approche historique : l’exemple de la vaccination au travers de l’histoire du droit et de l’histoire de la médecine
URL:https://calenda-formation.labocleo.org/639110
DESCRIPTION:Cet atelier a pour objectif de tracer les contours d’une réflexion associant historiens et juristes\, médecins et politiques sur le thème de l’histoire du droit et de l’histoire de la médecine dans le cas de la vaccination. L’histoire de la médecine m… Weitere Informationen https://calenda-formation.labocleo.org/639110
LOCATION:Toulouse
END:VEVENT
END:VCALENDAR
