BEGIN:VCALENDAR
VERSION:2.0
PRODID:-//https://calenda-formation.labocleo.org
X-WR-CALNAME:Calenda
X-WR-TIMEZONE:Europe/Paris
CALSCALE:GREGORIAN
X-WR-CALDESC:Le calendrier des lettres et sciences humaines et sociales
METHOD:PUBLISH
BEGIN:VEVENT
DTSTART;VALUE=DATE:20190625
DTEND;VALUE=DATE:20190626
UID:639436-20190625@calenda.revues.org
SUMMARY:Two research positions (65 %) in Medieval History at Heidelberg University\, Germany
URL:https://calenda-formation.labocleo.org/639436
DESCRIPTION:Applications are invited for two research positions in Medieval History at the Collaborative Research Centre (CRC) 933 ‘Material Text Cultures’ at Heidelberg University\, Germany. Successful applicants will work on one of two main projects. The first … Más informaciones https://calenda-formation.labocleo.org/639436
LOCATION:
END:VEVENT
END:VCALENDAR
