BEGIN:VCALENDAR
VERSION:2.0
PRODID:-//https://calenda-formation.labocleo.org
X-WR-CALNAME:Calenda
X-WR-TIMEZONE:Europe/Paris
CALSCALE:GREGORIAN
X-WR-CALDESC:Le calendrier des lettres et sciences humaines et sociales
METHOD:PUBLISH
BEGIN:VEVENT
DTSTART;VALUE=DATE:20190730
DTEND;VALUE=DATE:20190731
UID:640509-20190730@calenda.revues.org
SUMMARY:Les océans aux frontières invisibles dans l'orbite de Fernand de Magellan
URL:https://calenda-formation.labocleo.org/640509
DESCRIPTION:Ce colloque international interdisciplinaire organisé au Chili vise à célébrer le Ve centenaire de l'expédition de Fernand de Magellan dans la région et surtout sa traversée du détroit reliant l'Atlantique et le Pacifique. Il s'agira de revenir sur l… Más informaciones https://calenda-formation.labocleo.org/640509
LOCATION:Valparaíso
END:VEVENT
END:VCALENDAR
