BEGIN:VCALENDAR
VERSION:2.0
PRODID:-//https://calenda-formation.labocleo.org
X-WR-CALNAME:Calenda
X-WR-TIMEZONE:Europe/Paris
CALSCALE:GREGORIAN
X-WR-CALDESC:The calendar for arts, humanities and social sciences
METHOD:PUBLISH
BEGIN:VEVENT
DTSTART;VALUE=DATE:20190620
DTEND;VALUE=DATE:20190621
UID:640540-20190620@calenda.revues.org
SUMMARY:"Fake news". Art and information
URL:https://calenda-formation.labocleo.org/640540
DESCRIPTION:Il tema delle fake news è di grande attualità e rilevanza per i mezzi e i fini con cui queste vengono messe in circolazione: esse hanno il potere di alterare la realtà e di far circolare notizie prive di fondamento.Durante la giornata di studi si ind… @plus_info https://calenda-formation.labocleo.org/640540
LOCATION:Rome
END:VEVENT
BEGIN:VEVENT
DTSTART;VALUE=DATE:20190621
DTEND;VALUE=DATE:20190622
UID:640540-20190621@calenda.revues.org
SUMMARY:"Fake news". Art and information
URL:https://calenda-formation.labocleo.org/640540
DESCRIPTION:Il tema delle fake news è di grande attualità e rilevanza per i mezzi e i fini con cui queste vengono messe in circolazione: esse hanno il potere di alterare la realtà e di far circolare notizie prive di fondamento.Durante la giornata di studi si ind… @plus_info https://calenda-formation.labocleo.org/640540
LOCATION:Rome
END:VEVENT
END:VCALENDAR
