BEGIN:VCALENDAR
VERSION:2.0
PRODID:-//https://calenda-formation.labocleo.org
X-WR-CALNAME:Calenda
X-WR-TIMEZONE:Europe/Paris
CALSCALE:GREGORIAN
X-WR-CALDESC:Le calendrier des lettres et sciences humaines et sociales
METHOD:PUBLISH
BEGIN:VEVENT
DTSTART;VALUE=DATE:20190708
DTEND;VALUE=DATE:20190709
UID:642162-20190708@calenda.revues.org
SUMMARY:La ville dans la « climate fiction » – Thèse
URL:https://calenda-formation.labocleo.org/642162
DESCRIPTION:Le programme PARVIS « Paroles de villes »\, consacré à l'étude de la ville future\, recrute un·e doctorant·e sur le thème de la ville dans la climate fiction. … Más informaciones https://calenda-formation.labocleo.org/642162
LOCATION:Champs-sur-Marne
END:VEVENT
END:VCALENDAR
