BEGIN:VCALENDAR
VERSION:2.0
PRODID:-//https://calenda-formation.labocleo.org
X-WR-CALNAME:Calenda
X-WR-TIMEZONE:Europe/Paris
CALSCALE:GREGORIAN
X-WR-CALDESC:Le calendrier des lettres et sciences humaines et sociales
METHOD:PUBLISH
BEGIN:VEVENT
DTSTART;VALUE=DATE:20190620
DTEND;VALUE=DATE:20190621
UID:642516-20190620@calenda.revues.org
SUMMARY:Enseignant·e contractuel·le en sociologie générale et sociologie de l'innovation
URL:https://calenda-formation.labocleo.org/642516
DESCRIPTION:L'Institut national universitaire (INU) Champollion Albi recherche un-e enseignant-e de sociologie disposant d’une culture générale et méthodologique dense et variée. Les enseignements se dérouleront dans la licence de sociologie en L1\, L2 et L3. Les… Más informaciones https://calenda-formation.labocleo.org/642516
LOCATION:Albi
END:VEVENT
END:VCALENDAR
