BEGIN:VCALENDAR
VERSION:2.0
PRODID:-//https://calenda-formation.labocleo.org
X-WR-CALNAME:Calenda
X-WR-TIMEZONE:Europe/Paris
CALSCALE:GREGORIAN
X-WR-CALDESC:Le calendrier des lettres et sciences humaines et sociales
METHOD:PUBLISH
BEGIN:VEVENT
DTSTART;VALUE=DATE:20190902
DTEND;VALUE=DATE:20190903
UID:642699-20190902@calenda.revues.org
SUMMARY:La fabrique des parents   
URL:https://calenda-formation.labocleo.org/642699
DESCRIPTION:L’enjeu de ce colloque sera d’interroger la parenté quotidienne et non quotidienne\, à travers les dimensions biologiques\, statutaires\, affectives et économiques. Ces différents questionnements seront explorés lors de ce colloque à partir de trois axe… @plus_info https://calenda-formation.labocleo.org/642699
LOCATION:Paris
END:VEVENT
END:VCALENDAR
