BEGIN:VCALENDAR
VERSION:2.0
PRODID:-//https://calenda-formation.labocleo.org
X-WR-CALNAME:Calenda
X-WR-TIMEZONE:Europe/Paris
CALSCALE:GREGORIAN
X-WR-CALDESC:O calendário de letras e de ciências sociais e humanas
METHOD:PUBLISH
BEGIN:VEVENT
DTSTART;VALUE=DATE:20190630
DTEND;VALUE=DATE:20190701
UID:644740-20190630@calenda.revues.org
SUMMARY:La question du vivre-ensemble dans la  formation des enseignants. Des politiques aux pratiques
URL:https://calenda-formation.labocleo.org/644740
DESCRIPTION:Ce numéro de la revue Éthique en éducation et en formation examinera les questions de formation des enseignants en lien avec les politiques nationales (neutralité\, laïcité\, multiculturalisme...)\, mais il pourrait aussi inclure des textes sur la forma… @plus_info https://calenda-formation.labocleo.org/644740
LOCATION:Montreal
END:VEVENT
END:VCALENDAR
