BEGIN:VCALENDAR
VERSION:2.0
PRODID:-//https://calenda-formation.labocleo.org
X-WR-CALNAME:Calenda
X-WR-TIMEZONE:Europe/Paris
CALSCALE:GREGORIAN
X-WR-CALDESC:The calendar for arts, humanities and social sciences
METHOD:PUBLISH
BEGIN:VEVENT
DTSTART;VALUE=DATE:20190820
DTEND;VALUE=DATE:20190821
UID:645539-20190820@calenda.revues.org
SUMMARY:Care partnership with patients
URL:https://calenda-formation.labocleo.org/645539
DESCRIPTION:9 ans après l’émergence du partenariat de soin avec le patient dans et à partir d’une faculté de médecine ouvrant ses portes à des patients pour collaborer à la transformation de la formation des médecins\, et alors que nombre de pays s’ouvrent à cett… @plus_info https://calenda-formation.labocleo.org/645539
LOCATION:Nice
END:VEVENT
END:VCALENDAR
