BEGIN:VCALENDAR
VERSION:2.0
PRODID:-//https://calenda-formation.labocleo.org
X-WR-CALNAME:Calenda
X-WR-TIMEZONE:Europe/Paris
CALSCALE:GREGORIAN
X-WR-CALDESC:The calendar for arts, humanities and social sciences
METHOD:PUBLISH
BEGIN:VEVENT
DTSTART;VALUE=DATE:20190624
DTEND;VALUE=DATE:20190625
UID:645671-20190624@calenda.revues.org
SUMMARY:Leonardo da Vinci: invention and innovation
URL:https://calenda-formation.labocleo.org/645671
DESCRIPTION:Le Centre d’études supérieures de la Renaissance (université de Tours\, UMR 7323 du CNRS) en collaboration avec le programme ARD « Intelligence des patrimoines »\, organise la 62e édition de son colloque international d’études humanistes. L’objet de ce… @plus_info https://calenda-formation.labocleo.org/645671
LOCATION:Tours\, Amboise\, Chambord
END:VEVENT
BEGIN:VEVENT
DTSTART;VALUE=DATE:20190625
DTEND;VALUE=DATE:20190626
UID:645671-20190625@calenda.revues.org
SUMMARY:Leonardo da Vinci: invention and innovation
URL:https://calenda-formation.labocleo.org/645671
DESCRIPTION:Le Centre d’études supérieures de la Renaissance (université de Tours\, UMR 7323 du CNRS) en collaboration avec le programme ARD « Intelligence des patrimoines »\, organise la 62e édition de son colloque international d’études humanistes. L’objet de ce… @plus_info https://calenda-formation.labocleo.org/645671
LOCATION:Tours\, Amboise\, Chambord
END:VEVENT
BEGIN:VEVENT
DTSTART;VALUE=DATE:20190626
DTEND;VALUE=DATE:20190627
UID:645671-20190626@calenda.revues.org
SUMMARY:Leonardo da Vinci: invention and innovation
URL:https://calenda-formation.labocleo.org/645671
DESCRIPTION:Le Centre d’études supérieures de la Renaissance (université de Tours\, UMR 7323 du CNRS) en collaboration avec le programme ARD « Intelligence des patrimoines »\, organise la 62e édition de son colloque international d’études humanistes. L’objet de ce… @plus_info https://calenda-formation.labocleo.org/645671
LOCATION:Tours\, Amboise\, Chambord
END:VEVENT
BEGIN:VEVENT
DTSTART;VALUE=DATE:20190627
DTEND;VALUE=DATE:20190628
UID:645671-20190627@calenda.revues.org
SUMMARY:Leonardo da Vinci: invention and innovation
URL:https://calenda-formation.labocleo.org/645671
DESCRIPTION:Le Centre d’études supérieures de la Renaissance (université de Tours\, UMR 7323 du CNRS) en collaboration avec le programme ARD « Intelligence des patrimoines »\, organise la 62e édition de son colloque international d’études humanistes. L’objet de ce… @plus_info https://calenda-formation.labocleo.org/645671
LOCATION:Tours\, Amboise\, Chambord
END:VEVENT
BEGIN:VEVENT
DTSTART;VALUE=DATE:20190628
DTEND;VALUE=DATE:20190629
UID:645671-20190628@calenda.revues.org
SUMMARY:Leonardo da Vinci: invention and innovation
URL:https://calenda-formation.labocleo.org/645671
DESCRIPTION:Le Centre d’études supérieures de la Renaissance (université de Tours\, UMR 7323 du CNRS) en collaboration avec le programme ARD « Intelligence des patrimoines »\, organise la 62e édition de son colloque international d’études humanistes. L’objet de ce… @plus_info https://calenda-formation.labocleo.org/645671
LOCATION:Tours\, Amboise\, Chambord
END:VEVENT
END:VCALENDAR
