BEGIN:VCALENDAR
VERSION:2.0
PRODID:-//https://calenda-formation.labocleo.org
X-WR-CALNAME:Calenda
X-WR-TIMEZONE:Europe/Paris
CALSCALE:GREGORIAN
X-WR-CALDESC:Le calendrier des lettres et sciences humaines et sociales
METHOD:PUBLISH
BEGIN:VEVENT
DTSTART;VALUE=DATE:20190704
DTEND;VALUE=DATE:20190705
UID:647519-20190704@calenda.revues.org
SUMMARY:Encager le ciel : approches artistiques\, historiques et anthropologiques des volières
URL:https://calenda-formation.labocleo.org/647519
DESCRIPTION:Conçues principalement pour l’élevage\, l’exposition et la conservation des oiseaux en captivité\, les volières ont été déclinées historiquement dans une multitude de formes. À la différence des cages\, qui sont des objets mobiles et de plus petites dim… Weitere Informationen https://calenda-formation.labocleo.org/647519
LOCATION:Rom
END:VEVENT
END:VCALENDAR
