BEGIN:VCALENDAR
VERSION:2.0
PRODID:-//https://calenda-formation.labocleo.org
X-WR-CALNAME:Calenda
X-WR-TIMEZONE:Europe/Paris
CALSCALE:GREGORIAN
X-WR-CALDESC:The calendar for arts, humanities and social sciences
METHOD:PUBLISH
BEGIN:VEVENT
DTSTART;VALUE=DATE:20190926
DTEND;VALUE=DATE:20190927
UID:648023-20190926@calenda.revues.org
SUMMARY:Addiction to betting: a social phenomenon?
URL:https://calenda-formation.labocleo.org/648023
DESCRIPTION:Organisée par le CASPER avec le soutien du FNRS\, du programme Move-in Louvain et du Conseil de recherche de l'Université Saint-Louis - Bruxelles\, cette journée d'étude a pour vocation de proposer une approche socio-anthropologique de l’addiction aux … @plus_info https://calenda-formation.labocleo.org/648023
LOCATION:Brussels
END:VEVENT
END:VCALENDAR
