BEGIN:VCALENDAR
VERSION:2.0
PRODID:-//https://calenda-formation.labocleo.org
X-WR-CALNAME:Calenda
X-WR-TIMEZONE:Europe/Paris
CALSCALE:GREGORIAN
X-WR-CALDESC:Le calendrier des lettres et sciences humaines et sociales
METHOD:PUBLISH
BEGIN:VEVENT
DTSTART;VALUE=DATE:20190708
DTEND;VALUE=DATE:20190709
UID:650003-20190708@calenda.revues.org
SUMMARY:Understanding Mediterranean Collections
URL:https://calenda-formation.labocleo.org/650003
DESCRIPTION:L’école propose de réfléchir à la manière dont les sciences humaines et sociales travaillent avec et sur les collections méditerranéennes. Elle réunira une vingtaine de participants venus de pays et d’horizons professionnels très différents qui suivr… Weitere Informationen https://calenda-formation.labocleo.org/650003
LOCATION:
END:VEVENT
BEGIN:VEVENT
DTSTART;VALUE=DATE:20190710
DTEND;VALUE=DATE:20190711
UID:650003-20190710@calenda.revues.org
SUMMARY:Understanding Mediterranean Collections
URL:https://calenda-formation.labocleo.org/650003
DESCRIPTION:L’école propose de réfléchir à la manière dont les sciences humaines et sociales travaillent avec et sur les collections méditerranéennes. Elle réunira une vingtaine de participants venus de pays et d’horizons professionnels très différents qui suivr… Weitere Informationen https://calenda-formation.labocleo.org/650003
LOCATION:
END:VEVENT
BEGIN:VEVENT
DTSTART;VALUE=DATE:20190712
DTEND;VALUE=DATE:20190713
UID:650003-20190712@calenda.revues.org
SUMMARY:Understanding Mediterranean Collections
URL:https://calenda-formation.labocleo.org/650003
DESCRIPTION:L’école propose de réfléchir à la manière dont les sciences humaines et sociales travaillent avec et sur les collections méditerranéennes. Elle réunira une vingtaine de participants venus de pays et d’horizons professionnels très différents qui suivr… Weitere Informationen https://calenda-formation.labocleo.org/650003
LOCATION:
END:VEVENT
BEGIN:VEVENT
DTSTART;VALUE=DATE:20190713
DTEND;VALUE=DATE:20190714
UID:650003-20190713@calenda.revues.org
SUMMARY:Understanding Mediterranean Collections
URL:https://calenda-formation.labocleo.org/650003
DESCRIPTION:L’école propose de réfléchir à la manière dont les sciences humaines et sociales travaillent avec et sur les collections méditerranéennes. Elle réunira une vingtaine de participants venus de pays et d’horizons professionnels très différents qui suivr… Weitere Informationen https://calenda-formation.labocleo.org/650003
LOCATION:
END:VEVENT
BEGIN:VEVENT
DTSTART;VALUE=DATE:20190716
DTEND;VALUE=DATE:20190717
UID:650003-20190716@calenda.revues.org
SUMMARY:Understanding Mediterranean Collections
URL:https://calenda-formation.labocleo.org/650003
DESCRIPTION:L’école propose de réfléchir à la manière dont les sciences humaines et sociales travaillent avec et sur les collections méditerranéennes. Elle réunira une vingtaine de participants venus de pays et d’horizons professionnels très différents qui suivr… Weitere Informationen https://calenda-formation.labocleo.org/650003
LOCATION:
END:VEVENT
BEGIN:VEVENT
DTSTART;VALUE=DATE:20190717
DTEND;VALUE=DATE:20190718
UID:650003-20190717@calenda.revues.org
SUMMARY:Understanding Mediterranean Collections
URL:https://calenda-formation.labocleo.org/650003
DESCRIPTION:L’école propose de réfléchir à la manière dont les sciences humaines et sociales travaillent avec et sur les collections méditerranéennes. Elle réunira une vingtaine de participants venus de pays et d’horizons professionnels très différents qui suivr… Weitere Informationen https://calenda-formation.labocleo.org/650003
LOCATION:
END:VEVENT
END:VCALENDAR
