BEGIN:VCALENDAR
VERSION:2.0
PRODID:-//https://calenda-formation.labocleo.org
X-WR-CALNAME:Calenda
X-WR-TIMEZONE:Europe/Paris
CALSCALE:GREGORIAN
X-WR-CALDESC:Le calendrier des lettres et sciences humaines et sociales
METHOD:PUBLISH
BEGIN:VEVENT
DTSTART;VALUE=DATE:20190930
DTEND;VALUE=DATE:20191001
UID:650251-20190930@calenda.revues.org
SUMMARY:Stars and stardom in Eastern European cinema
URL:https://calenda-formation.labocleo.org/650251
DESCRIPTION:This special issue of Studies in Eastern European Cinema (SEEC) aims to bring together scholarship on stars and stardom in Eastern Europe as a first effort to present in one publication a range of star studies approaches to Eastern European cinema. … Weitere Informationen https://calenda-formation.labocleo.org/650251
LOCATION:
END:VEVENT
END:VCALENDAR
