BEGIN:VCALENDAR
VERSION:2.0
PRODID:-//https://calenda-formation.labocleo.org
X-WR-CALNAME:Calenda
X-WR-TIMEZONE:Europe/Paris
CALSCALE:GREGORIAN
X-WR-CALDESC:The calendar for arts, humanities and social sciences
METHOD:PUBLISH
BEGIN:VEVENT
DTSTART;VALUE=DATE:20191231
DTEND;VALUE=DATE:20200101
UID:650291-20191231@calenda.revues.org
SUMMARY:Engendering Scandal: Children and Childhood in the Early Modern Period
URL:https://calenda-formation.labocleo.org/650291
DESCRIPTION:This international two-day colloquium aims to analyse how and why the child\, as an individual or in a group\, could take part in the engendering process of scandal\, and could even influence its meanings when more directly involved. It also aims to exp… @plus_info https://calenda-formation.labocleo.org/650291
LOCATION:Lyon
END:VEVENT
END:VCALENDAR
