BEGIN:VCALENDAR
VERSION:2.0
PRODID:-//https://calenda-formation.labocleo.org
X-WR-CALNAME:Calenda
X-WR-TIMEZONE:Europe/Paris
CALSCALE:GREGORIAN
X-WR-CALDESC:Le calendrier des lettres et sciences humaines et sociales
METHOD:PUBLISH
BEGIN:VEVENT
DTSTART;VALUE=DATE:20190909
DTEND;VALUE=DATE:20190910
UID:651713-20190909@calenda.revues.org
SUMMARY:Rencontres de la Structure fédérative d'études et de recherches en éducation de Provence (SFERE)
URL:https://calenda-formation.labocleo.org/651713
DESCRIPTION:Cette journée donnera lieu à une rencontre destinée aux chercheurs\, docteurs\, doctorants\, masterants dont les travaux de recherche s’inscrivent dans le domaine « apprentissages et éducation ». Plus spécifiquement\, cette journée vise à créer des syner… @plus_info https://calenda-formation.labocleo.org/651713
LOCATION:Aix-en-Provence
END:VEVENT
END:VCALENDAR
