BEGIN:VCALENDAR
VERSION:2.0
PRODID:-//https://calenda-formation.labocleo.org
X-WR-CALNAME:Calenda
X-WR-TIMEZONE:Europe/Paris
CALSCALE:GREGORIAN
X-WR-CALDESC:The calendar for arts, humanities and social sciences
METHOD:PUBLISH
BEGIN:VEVENT
DTSTART;VALUE=DATE:20191001
DTEND;VALUE=DATE:20191002
UID:652310-20191001@calenda.revues.org
SUMMARY:Francophone writings in contemporary Morocco
URL:https://calenda-formation.labocleo.org/652310
DESCRIPTION:Relief\, revue électronique de littérature française\, vous invite à proposer des articles pour un numéro spécial sur la littérature marocaine contemporaine\, qui paraîtra en juin / juillet 2020. Le numéro se concentrera sur la littérature « déconcertan… @plus_info https://calenda-formation.labocleo.org/652310
LOCATION:
END:VEVENT
END:VCALENDAR
