BEGIN:VCALENDAR
VERSION:2.0
PRODID:-//https://calenda-formation.labocleo.org
X-WR-CALNAME:Calenda
X-WR-TIMEZONE:Europe/Paris
CALSCALE:GREGORIAN
X-WR-CALDESC:The calendar for arts, humanities and social sciences
METHOD:PUBLISH
BEGIN:VEVENT
DTSTART;VALUE=DATE:20191202
DTEND;VALUE=DATE:20191203
UID:655081-20191202@calenda.revues.org
SUMMARY:The lessons of Rome - 5th edition
URL:https://calenda-formation.labocleo.org/655081
DESCRIPTION:Les Leçons de Rome propose un espace de réflexion et de débat pour quiconque appréhende l’Italie comme laboratoire de recherche architecturale\, urbaine et paysagère. Définir l’Italie comme laboratoire suppose d’analyser les contextes de fabrication d… @plus_info https://calenda-formation.labocleo.org/655081
LOCATION:Lyon
END:VEVENT
END:VCALENDAR
