BEGIN:VCALENDAR
VERSION:2.0
PRODID:-//https://calenda-formation.labocleo.org
X-WR-CALNAME:Calenda
X-WR-TIMEZONE:Europe/Paris
CALSCALE:GREGORIAN
X-WR-CALDESC:Le calendrier des lettres et sciences humaines et sociales
METHOD:PUBLISH
BEGIN:VEVENT
DTSTART;VALUE=DATE:20191120
DTEND;VALUE=DATE:20191121
UID:655986-20191120@calenda.revues.org
SUMMARY:Spatialisation et temporalisation de l’hospitalité
URL:https://calenda-formation.labocleo.org/655986
DESCRIPTION:Ces journées d'étude font suite à la parution des Cahiers Thématiques n°18 portant sur la notion d'hospitalité. Nous mettons l'accent sur une double approche : sa spatialisation et sa temporalisation. Nous souhaitons questionner la spatialisation de … Weitere Informationen https://calenda-formation.labocleo.org/655986
LOCATION:Villeneuve-d'Ascq\, Lille
END:VEVENT
BEGIN:VEVENT
DTSTART;VALUE=DATE:20191121
DTEND;VALUE=DATE:20191122
UID:655986-20191121@calenda.revues.org
SUMMARY:Spatialisation et temporalisation de l’hospitalité
URL:https://calenda-formation.labocleo.org/655986
DESCRIPTION:Ces journées d'étude font suite à la parution des Cahiers Thématiques n°18 portant sur la notion d'hospitalité. Nous mettons l'accent sur une double approche : sa spatialisation et sa temporalisation. Nous souhaitons questionner la spatialisation de … Weitere Informationen https://calenda-formation.labocleo.org/655986
LOCATION:Villeneuve-d'Ascq\, Lille
END:VEVENT
END:VCALENDAR
