BEGIN:VCALENDAR
VERSION:2.0
PRODID:-//https://calenda-formation.labocleo.org
X-WR-CALNAME:Calenda
X-WR-TIMEZONE:Europe/Paris
CALSCALE:GREGORIAN
X-WR-CALDESC:Le calendrier des lettres et sciences humaines et sociales
METHOD:PUBLISH
BEGIN:VEVENT
DTSTART;VALUE=DATE:20191025
DTEND;VALUE=DATE:20191026
UID:663086-20191025@calenda.revues.org
SUMMARY:La professionnalisation des pratiques autour des commentaires numériques
URL:https://calenda-formation.labocleo.org/663086
DESCRIPTION:Commenter une information\, un produit\, un programme\, est aujourd’hui une activité qui s’est largement intensifiée sur internet et la gestion des commentaires est devenue une préoccupation majeure pour nombre d’organisations\, publiques ou privées\, et … Weitere Informationen https://calenda-formation.labocleo.org/663086
LOCATION:
END:VEVENT
END:VCALENDAR
