BEGIN:VCALENDAR
VERSION:2.0
PRODID:-//https://calenda-formation.labocleo.org
X-WR-CALNAME:Calenda
X-WR-TIMEZONE:Europe/Paris
CALSCALE:GREGORIAN
X-WR-CALDESC:Le calendrier des lettres et sciences humaines et sociales
METHOD:PUBLISH
BEGIN:VEVENT
DTSTART;VALUE=DATE:20191031
DTEND;VALUE=DATE:20191101
UID:663558-20191031@calenda.revues.org
SUMMARY:Performance et transgenre
URL:https://calenda-formation.labocleo.org/663558
DESCRIPTION:Des artistes de la scène\, des performeurs\, des médiateurs\, etc.\, travaillent dans le contexte du transgenre. De plus en plus\, la scène et la performance contemporaines sont prises par des artistes transgenres et/ou par des thèmes tels que les identit… @plus_info https://calenda-formation.labocleo.org/663558
LOCATION:Porto Alegre
END:VEVENT
END:VCALENDAR
