BEGIN:VCALENDAR
VERSION:2.0
PRODID:-//https://calenda-formation.labocleo.org
X-WR-CALNAME:Calenda
X-WR-TIMEZONE:Europe/Paris
CALSCALE:GREGORIAN
X-WR-CALDESC:O calendário de letras e de ciências sociais e humanas
METHOD:PUBLISH
BEGIN:VEVENT
DTSTART;VALUE=DATE:20191015
DTEND;VALUE=DATE:20191016
UID:663674-20191015@calenda.revues.org
SUMMARY:Peurs urbaines (XVI-XXIe siècle)
URL:https://calenda-formation.labocleo.org/663674
DESCRIPTION:La notion de « peurs urbaines » n'est pas neuve mais peut être examinée à nouveaux frais\, dans une démarche nouvellement engagée d’une approche « émotionnelle » de la ville\, d’une étude des émotions des habitants des villes. On entendra par « peurs u… @plus_info https://calenda-formation.labocleo.org/663674
LOCATION:Pessac
END:VEVENT
END:VCALENDAR
