BEGIN:VCALENDAR
VERSION:2.0
PRODID:-//https://calenda-formation.labocleo.org
X-WR-CALNAME:Calenda
X-WR-TIMEZONE:Europe/Paris
CALSCALE:GREGORIAN
X-WR-CALDESC:The calendar for arts, humanities and social sciences
METHOD:PUBLISH
BEGIN:VEVENT
DTSTART;VALUE=DATE:20190912
DTEND;VALUE=DATE:20190913
UID:664086-20190912@calenda.revues.org
SUMMARY:Behind the curtain? Representations of poverty in Europe in the modern era
URL:https://calenda-formation.labocleo.org/664086
DESCRIPTION:L’objectif de ce colloque est de rassembler des chercheurs qui ont fait de l'image du pauvre et de la pauvreté dans les arts visuels\, l'histoire des représentations et la littérature un sujet d'étude en soi. Il s'agira notamment d'évaluer\, à l'échelo… @plus_info https://calenda-formation.labocleo.org/664086
LOCATION:Lausanne
END:VEVENT
BEGIN:VEVENT
DTSTART;VALUE=DATE:20190913
DTEND;VALUE=DATE:20190914
UID:664086-20190913@calenda.revues.org
SUMMARY:Behind the curtain? Representations of poverty in Europe in the modern era
URL:https://calenda-formation.labocleo.org/664086
DESCRIPTION:L’objectif de ce colloque est de rassembler des chercheurs qui ont fait de l'image du pauvre et de la pauvreté dans les arts visuels\, l'histoire des représentations et la littérature un sujet d'étude en soi. Il s'agira notamment d'évaluer\, à l'échelo… @plus_info https://calenda-formation.labocleo.org/664086
LOCATION:Lausanne
END:VEVENT
END:VCALENDAR
