BEGIN:VCALENDAR
VERSION:2.0
PRODID:-//https://calenda-formation.labocleo.org
X-WR-CALNAME:Calenda
X-WR-TIMEZONE:Europe/Paris
CALSCALE:GREGORIAN
X-WR-CALDESC:Le calendrier des lettres et sciences humaines et sociales
METHOD:PUBLISH
BEGIN:VEVENT
DTSTART;VALUE=DATE:20190912
DTEND;VALUE=DATE:20190913
UID:665170-20190912@calenda.revues.org
SUMMARY:Clandestinités. Aspects policiers et militaires de l’État discret à l’époque contemporaine
URL:https://calenda-formation.labocleo.org/665170
DESCRIPTION:Le jeudi 12 septembre 2019 se tiendra au Service historique de la Défense à Vincennes\, en collaboration avec l'université Paris-Nanterre et l'appui de la Délégation au patrimoine de la Gendarmerie\, une journée d’études consacrée aux clandestinités mi… @plus_info https://calenda-formation.labocleo.org/665170
LOCATION:Vincennes
END:VEVENT
END:VCALENDAR
