BEGIN:VCALENDAR
VERSION:2.0
PRODID:-//https://calenda-formation.labocleo.org
X-WR-CALNAME:Calenda
X-WR-TIMEZONE:Europe/Paris
CALSCALE:GREGORIAN
X-WR-CALDESC:Le calendrier des lettres et sciences humaines et sociales
METHOD:PUBLISH
BEGIN:VEVENT
DTSTART;VALUE=DATE:20191003
DTEND;VALUE=DATE:20191004
UID:665190-20191003@calenda.revues.org
SUMMARY:Force de reviviscence
URL:https://calenda-formation.labocleo.org/665190
DESCRIPTION:Au cours de la 1er année du séminaire d'émersiologie\, nous avons pu démontrer combien sentir son corps vivant supposait une activation inconsciente par une immersion expérientielle et un éveil de sensations inédites. Dans la seconde année nous avons … Más informaciones https://calenda-formation.labocleo.org/665190
LOCATION:París
END:VEVENT
BEGIN:VEVENT
DTSTART;VALUE=DATE:20191114
DTEND;VALUE=DATE:20191115
UID:665190-20191114@calenda.revues.org
SUMMARY:Force de reviviscence
URL:https://calenda-formation.labocleo.org/665190
DESCRIPTION:Au cours de la 1er année du séminaire d'émersiologie\, nous avons pu démontrer combien sentir son corps vivant supposait une activation inconsciente par une immersion expérientielle et un éveil de sensations inédites. Dans la seconde année nous avons … Más informaciones https://calenda-formation.labocleo.org/665190
LOCATION:París
END:VEVENT
BEGIN:VEVENT
DTSTART;VALUE=DATE:20191205
DTEND;VALUE=DATE:20191206
UID:665190-20191205@calenda.revues.org
SUMMARY:Force de reviviscence
URL:https://calenda-formation.labocleo.org/665190
DESCRIPTION:Au cours de la 1er année du séminaire d'émersiologie\, nous avons pu démontrer combien sentir son corps vivant supposait une activation inconsciente par une immersion expérientielle et un éveil de sensations inédites. Dans la seconde année nous avons … Más informaciones https://calenda-formation.labocleo.org/665190
LOCATION:París
END:VEVENT
BEGIN:VEVENT
DTSTART;VALUE=DATE:20200109
DTEND;VALUE=DATE:20200110
UID:665190-20200109@calenda.revues.org
SUMMARY:Force de reviviscence
URL:https://calenda-formation.labocleo.org/665190
DESCRIPTION:Au cours de la 1er année du séminaire d'émersiologie\, nous avons pu démontrer combien sentir son corps vivant supposait une activation inconsciente par une immersion expérientielle et un éveil de sensations inédites. Dans la seconde année nous avons … Más informaciones https://calenda-formation.labocleo.org/665190
LOCATION:París
END:VEVENT
BEGIN:VEVENT
DTSTART;VALUE=DATE:20200206
DTEND;VALUE=DATE:20200207
UID:665190-20200206@calenda.revues.org
SUMMARY:Force de reviviscence
URL:https://calenda-formation.labocleo.org/665190
DESCRIPTION:Au cours de la 1er année du séminaire d'émersiologie\, nous avons pu démontrer combien sentir son corps vivant supposait une activation inconsciente par une immersion expérientielle et un éveil de sensations inédites. Dans la seconde année nous avons … Más informaciones https://calenda-formation.labocleo.org/665190
LOCATION:París
END:VEVENT
BEGIN:VEVENT
DTSTART;VALUE=DATE:20200305
DTEND;VALUE=DATE:20200306
UID:665190-20200305@calenda.revues.org
SUMMARY:Force de reviviscence
URL:https://calenda-formation.labocleo.org/665190
DESCRIPTION:Au cours de la 1er année du séminaire d'émersiologie\, nous avons pu démontrer combien sentir son corps vivant supposait une activation inconsciente par une immersion expérientielle et un éveil de sensations inédites. Dans la seconde année nous avons … Más informaciones https://calenda-formation.labocleo.org/665190
LOCATION:París
END:VEVENT
BEGIN:VEVENT
DTSTART;VALUE=DATE:20200402
DTEND;VALUE=DATE:20200403
UID:665190-20200402@calenda.revues.org
SUMMARY:Force de reviviscence
URL:https://calenda-formation.labocleo.org/665190
DESCRIPTION:Au cours de la 1er année du séminaire d'émersiologie\, nous avons pu démontrer combien sentir son corps vivant supposait une activation inconsciente par une immersion expérientielle et un éveil de sensations inédites. Dans la seconde année nous avons … Más informaciones https://calenda-formation.labocleo.org/665190
LOCATION:París
END:VEVENT
BEGIN:VEVENT
DTSTART;VALUE=DATE:20200514
DTEND;VALUE=DATE:20200515
UID:665190-20200514@calenda.revues.org
SUMMARY:Force de reviviscence
URL:https://calenda-formation.labocleo.org/665190
DESCRIPTION:Au cours de la 1er année du séminaire d'émersiologie\, nous avons pu démontrer combien sentir son corps vivant supposait une activation inconsciente par une immersion expérientielle et un éveil de sensations inédites. Dans la seconde année nous avons … Más informaciones https://calenda-formation.labocleo.org/665190
LOCATION:París
END:VEVENT
END:VCALENDAR
