BEGIN:VCALENDAR
VERSION:2.0
PRODID:-//https://calenda-formation.labocleo.org
X-WR-CALNAME:Calenda
X-WR-TIMEZONE:Europe/Paris
CALSCALE:GREGORIAN
X-WR-CALDESC:The calendar for arts, humanities and social sciences
METHOD:PUBLISH
BEGIN:VEVENT
DTSTART;VALUE=DATE:20191015
DTEND;VALUE=DATE:20191016
UID:665765-20191015@calenda.revues.org
SUMMARY:History and governance: interactions and conflicts between actors and norms
URL:https://calenda-formation.labocleo.org/665765
DESCRIPTION:Les doctorants du Centre d'histoire judiciaire de l'université de Lille organisent leur premier colloque qui portera que sur la plurigouvernance et la multinormativité. Cette journée se déroulera selon deux axes de réflexion. Le premier concernera le… @plus_info https://calenda-formation.labocleo.org/665765
LOCATION:Lille
END:VEVENT
END:VCALENDAR
