BEGIN:VCALENDAR
VERSION:2.0
PRODID:-//https://calenda-formation.labocleo.org
X-WR-CALNAME:Calenda
X-WR-TIMEZONE:Europe/Paris
CALSCALE:GREGORIAN
X-WR-CALDESC:The calendar for arts, humanities and social sciences
METHOD:PUBLISH
BEGIN:VEVENT
DTSTART;VALUE=DATE:20190915
DTEND;VALUE=DATE:20190916
UID:666025-20190915@calenda.revues.org
SUMMARY:22nd doctoral transport study day - tribute to Éric Tabourin
URL:https://calenda-formation.labocleo.org/666025
DESCRIPTION:L'AFITL (Association Française des Instituts de Transport et de Logistique) relance sa traditionnelle journée doctorale qui permet aux doctorants travaillant dans le champ des transports ou de la logistique\, quelle que soit leur discipline dès lors q… @plus_info https://calenda-formation.labocleo.org/666025
LOCATION:Montpellier
END:VEVENT
END:VCALENDAR
