BEGIN:VCALENDAR
VERSION:2.0
PRODID:-//https://calenda-formation.labocleo.org
X-WR-CALNAME:Calenda
X-WR-TIMEZONE:Europe/Paris
CALSCALE:GREGORIAN
X-WR-CALDESC:Le calendrier des lettres et sciences humaines et sociales
METHOD:PUBLISH
BEGIN:VEVENT
DTSTART;VALUE=DATE:20191206
DTEND;VALUE=DATE:20191207
UID:667982-20191206@calenda.revues.org
SUMMARY:Recherches en éducation 
URL:https://calenda-formation.labocleo.org/667982
DESCRIPTION:« Recherches en éducation » est une revue généraliste en sciences de l’éducation. Elle est ouverte aux multiples formes de la recherche ayant cours en sciences de l’éducation. Elle publie ainsi des articles relevant de recherches théoriques\, de revue… Weitere Informationen https://calenda-formation.labocleo.org/667982
LOCATION:
END:VEVENT
BEGIN:VEVENT
DTSTART;VALUE=DATE:20191004
DTEND;VALUE=DATE:20191005
UID:667982-20191004@calenda.revues.org
SUMMARY:Recherches en éducation 
URL:https://calenda-formation.labocleo.org/667982
DESCRIPTION:« Recherches en éducation » est une revue généraliste en sciences de l’éducation. Elle est ouverte aux multiples formes de la recherche ayant cours en sciences de l’éducation. Elle publie ainsi des articles relevant de recherches théoriques\, de revue… Weitere Informationen https://calenda-formation.labocleo.org/667982
LOCATION:
END:VEVENT
BEGIN:VEVENT
DTSTART;VALUE=DATE:20200320
DTEND;VALUE=DATE:20200321
UID:667982-20200320@calenda.revues.org
SUMMARY:Recherches en éducation 
URL:https://calenda-formation.labocleo.org/667982
DESCRIPTION:« Recherches en éducation » est une revue généraliste en sciences de l’éducation. Elle est ouverte aux multiples formes de la recherche ayant cours en sciences de l’éducation. Elle publie ainsi des articles relevant de recherches théoriques\, de revue… Weitere Informationen https://calenda-formation.labocleo.org/667982
LOCATION:
END:VEVENT
BEGIN:VEVENT
DTSTART;VALUE=DATE:20200626
DTEND;VALUE=DATE:20200627
UID:667982-20200626@calenda.revues.org
SUMMARY:Recherches en éducation 
URL:https://calenda-formation.labocleo.org/667982
DESCRIPTION:« Recherches en éducation » est une revue généraliste en sciences de l’éducation. Elle est ouverte aux multiples formes de la recherche ayant cours en sciences de l’éducation. Elle publie ainsi des articles relevant de recherches théoriques\, de revue… Weitere Informationen https://calenda-formation.labocleo.org/667982
LOCATION:
END:VEVENT
END:VCALENDAR
