BEGIN:VCALENDAR
VERSION:2.0
PRODID:-//https://calenda-formation.labocleo.org
X-WR-CALNAME:Calenda
X-WR-TIMEZONE:Europe/Paris
CALSCALE:GREGORIAN
X-WR-CALDESC:Le calendrier des lettres et sciences humaines et sociales
METHOD:PUBLISH
BEGIN:VEVENT
DTSTART;VALUE=DATE:20190926
DTEND;VALUE=DATE:20190927
UID:668378-20190926@calenda.revues.org
SUMMARY:French Politics: A Neighbour's 'History of the Present'
URL:https://calenda-formation.labocleo.org/668378
DESCRIPTION:“French Politics: A Neighbour’s ‘History of the Present’” is a monthly seminar series organised by the University of Westminster (Centre for the Study of Democracy and Institute for Modern and Contemporary Culture)\, introducing the “crème de la crème… Más informaciones https://calenda-formation.labocleo.org/668378
LOCATION:Londres
END:VEVENT
BEGIN:VEVENT
DTSTART;VALUE=DATE:20191010
DTEND;VALUE=DATE:20191011
UID:668378-20191010@calenda.revues.org
SUMMARY:French Politics: A Neighbour's 'History of the Present'
URL:https://calenda-formation.labocleo.org/668378
DESCRIPTION:“French Politics: A Neighbour’s ‘History of the Present’” is a monthly seminar series organised by the University of Westminster (Centre for the Study of Democracy and Institute for Modern and Contemporary Culture)\, introducing the “crème de la crème… Más informaciones https://calenda-formation.labocleo.org/668378
LOCATION:Londres
END:VEVENT
BEGIN:VEVENT
DTSTART;VALUE=DATE:20191014
DTEND;VALUE=DATE:20191015
UID:668378-20191014@calenda.revues.org
SUMMARY:French Politics: A Neighbour's 'History of the Present'
URL:https://calenda-formation.labocleo.org/668378
DESCRIPTION:“French Politics: A Neighbour’s ‘History of the Present’” is a monthly seminar series organised by the University of Westminster (Centre for the Study of Democracy and Institute for Modern and Contemporary Culture)\, introducing the “crème de la crème… Más informaciones https://calenda-formation.labocleo.org/668378
LOCATION:Londres
END:VEVENT
BEGIN:VEVENT
DTSTART;VALUE=DATE:20191204
DTEND;VALUE=DATE:20191205
UID:668378-20191204@calenda.revues.org
SUMMARY:French Politics: A Neighbour's 'History of the Present'
URL:https://calenda-formation.labocleo.org/668378
DESCRIPTION:“French Politics: A Neighbour’s ‘History of the Present’” is a monthly seminar series organised by the University of Westminster (Centre for the Study of Democracy and Institute for Modern and Contemporary Culture)\, introducing the “crème de la crème… Más informaciones https://calenda-formation.labocleo.org/668378
LOCATION:Londres
END:VEVENT
BEGIN:VEVENT
DTSTART;VALUE=DATE:20200130
DTEND;VALUE=DATE:20200131
UID:668378-20200130@calenda.revues.org
SUMMARY:French Politics: A Neighbour's 'History of the Present'
URL:https://calenda-formation.labocleo.org/668378
DESCRIPTION:“French Politics: A Neighbour’s ‘History of the Present’” is a monthly seminar series organised by the University of Westminster (Centre for the Study of Democracy and Institute for Modern and Contemporary Culture)\, introducing the “crème de la crème… Más informaciones https://calenda-formation.labocleo.org/668378
LOCATION:Londres
END:VEVENT
BEGIN:VEVENT
DTSTART;VALUE=DATE:20200213
DTEND;VALUE=DATE:20200214
UID:668378-20200213@calenda.revues.org
SUMMARY:French Politics: A Neighbour's 'History of the Present'
URL:https://calenda-formation.labocleo.org/668378
DESCRIPTION:“French Politics: A Neighbour’s ‘History of the Present’” is a monthly seminar series organised by the University of Westminster (Centre for the Study of Democracy and Institute for Modern and Contemporary Culture)\, introducing the “crème de la crème… Más informaciones https://calenda-formation.labocleo.org/668378
LOCATION:Londres
END:VEVENT
BEGIN:VEVENT
DTSTART;VALUE=DATE:20200301
DTEND;VALUE=DATE:20200302
UID:668378-20200301@calenda.revues.org
SUMMARY:French Politics: A Neighbour's 'History of the Present'
URL:https://calenda-formation.labocleo.org/668378
DESCRIPTION:“French Politics: A Neighbour’s ‘History of the Present’” is a monthly seminar series organised by the University of Westminster (Centre for the Study of Democracy and Institute for Modern and Contemporary Culture)\, introducing the “crème de la crème… Más informaciones https://calenda-formation.labocleo.org/668378
LOCATION:Londres
END:VEVENT
BEGIN:VEVENT
DTSTART;VALUE=DATE:20200401
DTEND;VALUE=DATE:20200402
UID:668378-20200401@calenda.revues.org
SUMMARY:French Politics: A Neighbour's 'History of the Present'
URL:https://calenda-formation.labocleo.org/668378
DESCRIPTION:“French Politics: A Neighbour’s ‘History of the Present’” is a monthly seminar series organised by the University of Westminster (Centre for the Study of Democracy and Institute for Modern and Contemporary Culture)\, introducing the “crème de la crème… Más informaciones https://calenda-formation.labocleo.org/668378
LOCATION:Londres
END:VEVENT
BEGIN:VEVENT
DTSTART;VALUE=DATE:20200611
DTEND;VALUE=DATE:20200612
UID:668378-20200611@calenda.revues.org
SUMMARY:French Politics: A Neighbour's 'History of the Present'
URL:https://calenda-formation.labocleo.org/668378
DESCRIPTION:“French Politics: A Neighbour’s ‘History of the Present’” is a monthly seminar series organised by the University of Westminster (Centre for the Study of Democracy and Institute for Modern and Contemporary Culture)\, introducing the “crème de la crème… Más informaciones https://calenda-formation.labocleo.org/668378
LOCATION:Londres
END:VEVENT
END:VCALENDAR
