BEGIN:VCALENDAR
VERSION:2.0
PRODID:-//https://calenda-formation.labocleo.org
X-WR-CALNAME:Calenda
X-WR-TIMEZONE:Europe/Paris
CALSCALE:GREGORIAN
X-WR-CALDESC:The calendar for arts, humanities and social sciences
METHOD:PUBLISH
BEGIN:VEVENT
DTSTART;VALUE=DATE:20191101
DTEND;VALUE=DATE:20191102
UID:669277-20191101@calenda.revues.org
SUMMARY:Gender and adolescent practices 
URL:https://calenda-formation.labocleo.org/669277
DESCRIPTION:Notre proposition de dossier cherche à ouvrir des pistes inédites sur les formes d'engagement et de participation dans la vie sociale des adolescent·e·s\, et\, de façon plus large\, sur les pratiques sociales des adolescent·e·s – en tant qu’entité socia… @plus_info https://calenda-formation.labocleo.org/669277
LOCATION:
END:VEVENT
END:VCALENDAR
