BEGIN:VCALENDAR
VERSION:2.0
PRODID:-//https://calenda-formation.labocleo.org
X-WR-CALNAME:Calenda
X-WR-TIMEZONE:Europe/Paris
CALSCALE:GREGORIAN
X-WR-CALDESC:The calendar for arts, humanities and social sciences
METHOD:PUBLISH
BEGIN:VEVENT
DTSTART;VALUE=DATE:20191215
DTEND;VALUE=DATE:20191216
UID:672254-20191215@calenda.revues.org
SUMMARY:Grant programme for young researchers in Berlin
URL:https://calenda-formation.labocleo.org/672254
DESCRIPTION:The grants of the Study Foundation of the Berlin House of Representatives shall be awarded to young university graduates and students with at least a Bachelor’s degree (or an equivalent) in all fields\, in particular the humanities and social sciences… @plus_info https://calenda-formation.labocleo.org/672254
LOCATION:Berlin
END:VEVENT
END:VCALENDAR
