BEGIN:VCALENDAR
VERSION:2.0
PRODID:-//https://calenda-formation.labocleo.org
X-WR-CALNAME:Calenda
X-WR-TIMEZONE:Europe/Paris
CALSCALE:GREGORIAN
X-WR-CALDESC:The calendar for arts, humanities and social sciences
METHOD:PUBLISH
BEGIN:VEVENT
DTSTART;VALUE=DATE:20191004
DTEND;VALUE=DATE:20191005
UID:672614-20191004@calenda.revues.org
SUMMARY:The epistemology of error in the modern age
URL:https://calenda-formation.labocleo.org/672614
DESCRIPTION:On se propose d’enquêter sur le rôle qu’à l’époque moderne\, la réflexion sur l’erreur a joué dans la formulation des théories philosophiques\, d’une part\, et dans la mise en rapport de celle-ci avec la théorisation scientifique et la pratique expérime… @plus_info https://calenda-formation.labocleo.org/672614
LOCATION:Brussels
END:VEVENT
END:VCALENDAR
