BEGIN:VCALENDAR
VERSION:2.0
PRODID:-//https://calenda-formation.labocleo.org
X-WR-CALNAME:Calenda
X-WR-TIMEZONE:Europe/Paris
CALSCALE:GREGORIAN
X-WR-CALDESC:The calendar for arts, humanities and social sciences
METHOD:PUBLISH
BEGIN:VEVENT
DTSTART;VALUE=DATE:20191202
DTEND;VALUE=DATE:20191203
UID:673082-20191202@calenda.revues.org
SUMMARY:Representations of disability in young people's literature and on the contemporary stage: between obstruction and liberty
URL:https://calenda-formation.labocleo.org/673082
DESCRIPTION:Le colloque propose d’étudier les représentations du handicap dans les productions littéraires et artistiques destinées à la jeunesse. Il s'agit de sintéresser aux oeuvres qui abordent le rapport à la norme en manifestant une appréhension du handicap… @plus_info https://calenda-formation.labocleo.org/673082
LOCATION:Arras\, Wasquehal
END:VEVENT
END:VCALENDAR
