BEGIN:VCALENDAR
VERSION:2.0
PRODID:-//https://calenda-formation.labocleo.org
X-WR-CALNAME:Calenda
X-WR-TIMEZONE:Europe/Paris
CALSCALE:GREGORIAN
X-WR-CALDESC:O calendário de letras e de ciências sociais e humanas
METHOD:PUBLISH
BEGIN:VEVENT
DTSTART;VALUE=DATE:20200130
DTEND;VALUE=DATE:20200131
UID:674309-20200130@calenda.revues.org
SUMMARY:Comparaisons en didactique des littératures
URL:https://calenda-formation.labocleo.org/674309
DESCRIPTION:Vingt ans après les premières rencontres des chercheur·e·s en didactique des littératures\, il est notable de constater que se développent actuellement\, et de manière concomitante\, des projets impliquant des collectifs de chercheur·e·s dont les visées… @plus_info https://calenda-formation.labocleo.org/674309
LOCATION:Montpellier
END:VEVENT
END:VCALENDAR
