BEGIN:VCALENDAR
VERSION:2.0
PRODID:-//https://calenda-formation.labocleo.org
X-WR-CALNAME:Calenda
X-WR-TIMEZONE:Europe/Paris
CALSCALE:GREGORIAN
X-WR-CALDESC:The calendar for arts, humanities and social sciences
METHOD:PUBLISH
BEGIN:VEVENT
DTSTART;VALUE=DATE:20191220
DTEND;VALUE=DATE:20191221
UID:674901-20191220@calenda.revues.org
SUMMARY:Animals' Justices
URL:https://calenda-formation.labocleo.org/674901
DESCRIPTION:The question of the forms of justice to be applied or extended to animals has become in recent years a salient element of public debate\, not to say a real moral panic. Justice spatiale / Spatial Justice aims to address this debate from a position of … @plus_info https://calenda-formation.labocleo.org/674901
LOCATION:
END:VEVENT
END:VCALENDAR
