BEGIN:VCALENDAR
VERSION:2.0
PRODID:-//https://calenda-formation.labocleo.org
X-WR-CALNAME:Calenda
X-WR-TIMEZONE:Europe/Paris
CALSCALE:GREGORIAN
X-WR-CALDESC:Le calendrier des lettres et sciences humaines et sociales
METHOD:PUBLISH
BEGIN:VEVENT
DTSTART;VALUE=DATE:20200110
DTEND;VALUE=DATE:20200111
UID:675010-20200110@calenda.revues.org
SUMMARY:Les stations thermales secondaires en France aux XIXe et XXe siècles : une autre histoire du thermalisme ?
URL:https://calenda-formation.labocleo.org/675010
DESCRIPTION:Cette journée d'étude s'intéresse aux stations thermales françaises de moindre importance\, aux XIXe et XXe siècles. Elle cherche à mettre au jour leur histoire économique\, sociale et architecturale. Par ce biais\, cette journée vise à affiner les conn… Weitere Informationen https://calenda-formation.labocleo.org/675010
LOCATION:Toulouse
END:VEVENT
END:VCALENDAR
